BEGIN:VCALENDAR
VERSION:2.0
PRODID:-//Blue Thumb - ECPv6.15.20//NONSGML v1.0//EN
CALSCALE:GREGORIAN
METHOD:PUBLISH
X-WR-CALNAME:Blue Thumb
X-ORIGINAL-URL:https://bluethumb.org
X-WR-CALDESC:Events for Blue Thumb
REFRESH-INTERVAL;VALUE=DURATION:PT1H
X-Robots-Tag:noindex
X-PUBLISHED-TTL:PT1H
BEGIN:VTIMEZONE
TZID:America/Chicago
BEGIN:DAYLIGHT
TZOFFSETFROM:-0600
TZOFFSETTO:-0500
TZNAME:CDT
DTSTART:20240310T080000
END:DAYLIGHT
BEGIN:STANDARD
TZOFFSETFROM:-0500
TZOFFSETTO:-0600
TZNAME:CST
DTSTART:20241103T070000
END:STANDARD
BEGIN:DAYLIGHT
TZOFFSETFROM:-0600
TZOFFSETTO:-0500
TZNAME:CDT
DTSTART:20250309T080000
END:DAYLIGHT
BEGIN:STANDARD
TZOFFSETFROM:-0500
TZOFFSETTO:-0600
TZNAME:CST
DTSTART:20251102T070000
END:STANDARD
BEGIN:DAYLIGHT
TZOFFSETFROM:-0600
TZOFFSETTO:-0500
TZNAME:CDT
DTSTART:20260308T080000
END:DAYLIGHT
BEGIN:STANDARD
TZOFFSETFROM:-0500
TZOFFSETTO:-0600
TZNAME:CST
DTSTART:20261101T070000
END:STANDARD
END:VTIMEZONE
BEGIN:VEVENT
DTSTART;TZID=America/Chicago:20250507T173000
DTEND;TZID=America/Chicago:20250507T200000
DTSTAMP:20260419T234932
CREATED:20250307T190946Z
LAST-MODIFIED:20250310T211258Z
UID:20212-1746639000-1746648000@bluethumb.org
SUMMARY:Planting for Clean Water: City of Edina
DESCRIPTION:Learn all about how water moves across residential landscapes and how every yard and garden can have an impact on improving water quality. Designers from Metro Blooms Design+Build will walk through the steps of assessing your yard\, directing water runoff\, installing a rain barrel\, siting a rain garden and more. \nFollowing the presentation\, attendees will have the chance to meet with landscape designers and master gardeners to discuss a project on their specific property. We will use photos and county GIS maps to virtually view properties. \nThis workshop is hosted by the City of Edina and is free to residents of Edina (just start filling out the registration form and the Billing field will disappear).
URL:https://bluethumb.org/event/planting-for-clean-water-city-of-edina/
LOCATION:Online (Webinar)\, MN\, United States
CATEGORIES:Raingarden,Resilient Yards,Workshop
ATTACH;FMTTYPE=image/png:https://bluethumb.org/wp-content/uploads/sites/2/2025/02/2-1.png
END:VEVENT
BEGIN:VEVENT
DTSTART;TZID=America/Chicago:20250512T173000
DTEND;TZID=America/Chicago:20250512T190000
DTSTAMP:20260419T234932
CREATED:20250127T221845Z
LAST-MODIFIED:20250307T213701Z
UID:19644-1747071000-1747076400@bluethumb.org
SUMMARY:Rain Garden Maintenance Workshop - Rice Creek Watershed District
DESCRIPTION:Learn how to take care of your rain garden! Join us on May 12th from 5:30-7:00pm for an in-person Rain Garden Maintenance Workshop located at Rosebrook Park in Roseville. We’ll meet at the rain garden in the Southeast corner of the parking lot. \nThis hands-on workshop led by Metro Blooms landcare experts will cover practices for keeping your rain garden thriving and functioning. Get guidance for identifying native plants\, managing weeds\, timing for rain garden maintenance activities throughout the year\, and more. \nThis workshop is hosted by Rice Creek Watershed District.
URL:https://bluethumb.org/event/rain-garden-maintenance-workshop/
LOCATION: Rosebrook Park\, 2590 Fry St N\, Roseville\, MN\, 55113\, United States
CATEGORIES:Maintenance,Raingarden,Workshop
ATTACH;FMTTYPE=image/png:https://bluethumb.org/wp-content/uploads/sites/2/2025/01/3-e1738958194642.png
END:VEVENT
BEGIN:VEVENT
DTSTART;TZID=America/Chicago:20250528T173000
DTEND;TZID=America/Chicago:20250528T200000
DTSTAMP:20260419T234932
CREATED:20250307T192016Z
LAST-MODIFIED:20250523T142439Z
UID:20216-1748453400-1748462400@bluethumb.org
SUMMARY:Planting for Pollinators: City of Edina
DESCRIPTION:Want to attract bees\, butterflies\, and birds? Learn to select plants and design a native plant garden that supports wildlife and brings beauty to your outdoor space. \nThis workshop includes a presentation by Metro Blooms Design+Build landscape designers on pollinator-friendly plantings and landcare practices that can be adopted in your home garden\, followed by time to meet in small groups with landscape designers and master gardeners to discuss your project ideas and plans. The workshop will cover selecting and siting native trees and shrubs\, designing a native plant garden\, pollinator-friendly maintenance practices\, and more. \nThis workshop is hosted by the City of Edina and is free to residents of Edina (just start filling out the registration form and the Billing field will disappear).
URL:https://bluethumb.org/event/planting-for-pollinators-city-of-edina/
LOCATION:Online (Webinar)\, MN\, United States
CATEGORIES:Planting for Pollinators,Resilient Yards,Workshop
ATTACH;FMTTYPE=image/png:https://bluethumb.org/wp-content/uploads/sites/2/2025/03/Planting-for-Pollinators-Workshop-Banner.png
END:VEVENT
END:VCALENDAR